BEGIN:VCALENDAR
VERSION:2.0
PRODID:-//First 5 Marin - ECPv6.15.12.2//NONSGML v1.0//EN
CALSCALE:GREGORIAN
METHOD:PUBLISH
X-ORIGINAL-URL:https://www.first5marin.org
X-WR-CALDESC:Events for First 5 Marin
REFRESH-INTERVAL;VALUE=DURATION:PT1H
X-Robots-Tag:noindex
X-PUBLISHED-TTL:PT1H
BEGIN:VTIMEZONE
TZID:UTC
BEGIN:STANDARD
TZOFFSETFROM:+0000
TZOFFSETTO:+0000
TZNAME:UTC
DTSTART:20220101T000000
END:STANDARD
END:VTIMEZONE
BEGIN:VEVENT
DTSTART;TZID=UTC:20231018T053000
DTEND;TZID=UTC:20231018T193000
DTSTAMP:20260419T215418
CREATED:20231003T225844Z
LAST-MODIFIED:20241104T135112Z
UID:10512-1697607000-1697657400@www.first5marin.org
SUMMARY:October Commission Meeting
DESCRIPTION:
URL:https://www.first5marin.org/event/october-commission-meeting-2/
CATEGORIES:Commission Meetings,Past Commission Meetings
END:VEVENT
END:VCALENDAR